BEGIN:VCALENDAR
VERSION:2.0
PRODID:-//wp-events-plugin.com//6.6.3//EN
TZID:Europe/Berlin
X-WR-TIMEZONE:Europe/Berlin
BEGIN:VEVENT
UID:4@waldlust1889.de
DTSTART;TZID=Europe/Berlin:20251225T120000
DTEND;TZID=Europe/Berlin:20251226T153000
DTSTAMP:20250425T152007Z
URL:https://waldlust1889.de/events/weihnachten-2025/
SUMMARY:Weihnachten 2025
DESCRIPTION:Genießen Sie auch wieder in diesem Jahr unser großes Weihnach
 tsbuffet am 1. und 2. Weihnachtsfeiertag.\n\n€ 45\,00 pro Person\n(Kinde
 r bis 6 Jahre kostenfrei\, Kinder bis 12 Jahre zahlen die Hälfte)\n\nBitt
 e reservieren Sie rechtzeitig einen Tisch
ATTACH;FMTTYPE=image/jpeg:https://waldlust1889.de/wp-content/uploads/2025/
 03/Weihnachten.jpg
END:VEVENT
BEGIN:VTIMEZONE
TZID:Europe/Berlin
X-LIC-LOCATION:Europe/Berlin
BEGIN:STANDARD
DTSTART:20251026T020000
TZOFFSETFROM:+0200
TZOFFSETTO:+0100
TZNAME:CET
END:STANDARD
END:VTIMEZONE
END:VCALENDAR